BEGIN:VCALENDAR
VERSION:2.0
PRODID:-//RIFF - ECPv6.15.20//NONSGML v1.0//EN
CALSCALE:GREGORIAN
METHOD:PUBLISH
X-WR-CALNAME:RIFF
X-ORIGINAL-URL:https://riff.is/en
X-WR-CALDESC:Events for RIFF
REFRESH-INTERVAL;VALUE=DURATION:PT1H
X-Robots-Tag:noindex
X-PUBLISHED-TTL:PT1H
BEGIN:VTIMEZONE
TZID:Atlantic/Reykjavik
BEGIN:STANDARD
TZOFFSETFROM:+0000
TZOFFSETTO:+0000
TZNAME:GMT
DTSTART:20230101T000000
END:STANDARD
END:VTIMEZONE
BEGIN:VEVENT
DTSTART;TZID=Atlantic/Reykjavik:20240927T211500
DTEND;TZID=Atlantic/Reykjavik:20240927T211500
DTSTAMP:20260421T094152
CREATED:20240911T140039Z
LAST-MODIFIED:20240911T140039Z
UID:55981-1727471700-1727471700@riff.is
SUMMARY:Hryllingstvenna / Horror Duo: Texas Chainsaw Massacre og Chain Reactions
DESCRIPTION:Tvöföld Sýning á RIFF. Við sýnum eina þekktustu hrollvekju allra tíma\, Texas Chainsaw Massacre (1974) og frumsýnum í kjölfarið heimildamyndina Chain Reactions (2024) eftir hinn margverðlaunaða leikstjóra Alexandre O. Phillipe. \nÍ heimildamyndinni Chain Reactions eru áhrif þessarar költ-hrollvekju skoðuð í samtali við fimm listamenn þar á meðal Stephen King\, en myndin kom út fyrir fimmtíu árum og skók gjörvallan heiminn með frumlegu handriti og breytti sögusviði hryllingsmynda um ókomna tíð. \n// \nJoin us for this double feature pairing one the most notorious horror films of all time ‘Texas Chansaw Massacre’ and the documentary ‘Chain Reactions’ by the award winning director Alexandre O. Philippe. \n50 years after its initial release\, ‘Chain Reactions’ explores the lasting impact of Texas Chainsaw  Massacre on five great artists including Stephen King and how it changed the genre forever.
URL:https://riff.is/en/event/hryllingstvenna-horror-duo-texas-chainsaw-massacre-og-chain-reactions/
LOCATION:Háskólabíó\, Suðurgata\, Reykjavík\, 101\, Iceland
ATTACH;FMTTYPE=image/png:https://riff.is/wp-content/uploads/2024/09/TexasChainMassacre_JustPictures4.png
ORGANIZER;CN="Reykjav%C3%ADk International Film Festival 2020":MAILTO:ticketing@riff.is
END:VEVENT
END:VCALENDAR