BEGIN:VCALENDAR
VERSION:2.0
PRODID:-//RIFF - ECPv6.15.20//NONSGML v1.0//EN
CALSCALE:GREGORIAN
METHOD:PUBLISH
X-WR-CALNAME:RIFF
X-ORIGINAL-URL:https://riff.is/en
X-WR-CALDESC:Events for RIFF
REFRESH-INTERVAL;VALUE=DURATION:PT1H
X-Robots-Tag:noindex
X-PUBLISHED-TTL:PT1H
BEGIN:VTIMEZONE
TZID:Atlantic/Reykjavik
BEGIN:STANDARD
TZOFFSETFROM:+0000
TZOFFSETTO:+0000
TZNAME:GMT
DTSTART:20190101T000000
END:STANDARD
END:VTIMEZONE
BEGIN:VEVENT
DTSTART;TZID=Atlantic/Reykjavik:20201004T133000
DTEND;TZID=Atlantic/Reykjavik:20201004T150000
DTSTAMP:20260421T114820
CREATED:20200916T174701Z
LAST-MODIFIED:20200916T175012Z
UID:3991-1601818200-1601823600@riff.is
SUMMARY:RIFF4Future
DESCRIPTION:RIFF 4 Future brings together youth from the Nordic region for an online workshop within the Reykjavík International Film Festival frame to reflect on opportunities for young filmmakers in the era of New Media and Global Warming. The participants will be coached towards using filmmaking\, new media and storytelling to have a say in the current situation of their countries and societies with regards to sustainability awareness. Their films should aim to influence and promote their visions in order to transform our world. \nSupported by the Nordic Culture Point under their program Norden 0-30 \nOn this special event\, we will screen at the Nordic House in Reykjavík\, the results of the above-forementioned workshop introduced by its participants from Greenland\, Norway\, Faroe Islands and Finland and on-site in Iceland while live-streamed in all our channels.
URL:https://riff.is/en/event/riff4future/
LOCATION:Private: The Nordic House\, Sæmundargata 11\, Reykjavík\, 102\, Iceland
ATTACH;FMTTYPE=image/png:https://riff.is/wp-content/uploads/2020/09/BANNER2.png
ORGANIZER;CN="Reykjav%C3%ADk International Film Festival 2020":MAILTO:ticketing@riff.is
END:VEVENT
END:VCALENDAR