BEGIN:VCALENDAR
VERSION:2.0
PRODID:-//RIFF - ECPv6.15.20//NONSGML v1.0//EN
CALSCALE:GREGORIAN
METHOD:PUBLISH
X-WR-CALNAME:RIFF
X-ORIGINAL-URL:https://riff.is
X-WR-CALDESC:Events for RIFF
REFRESH-INTERVAL;VALUE=DURATION:PT1H
X-Robots-Tag:noindex
X-PUBLISHED-TTL:PT1H
BEGIN:VTIMEZONE
TZID:Atlantic/Reykjavik
BEGIN:STANDARD
TZOFFSETFROM:+0000
TZOFFSETTO:+0000
TZNAME:GMT
DTSTART:20200101T000000
END:STANDARD
END:VTIMEZONE
BEGIN:VEVENT
DTSTART;TZID=Atlantic/Reykjavik:20211002T190000
DTEND;TZID=Atlantic/Reykjavik:20211002T210000
DTSTAMP:20260419T175850
CREATED:20210914T113449Z
LAST-MODIFIED:20210924T133654Z
UID:21998-1633201200-1633208400@riff.is
SUMMARY:DJ BJÖRK Í HANNESARHOLTI
DESCRIPTION:Afrískur andi mun svífa yfir vötnum í Hannesarholti þegar Björk Guðmundsdóttir tónlistarkona þeytir skífum í Hljóðbergi. Afríkönsk matarveisla úr smiðju Alex Jallow\, stofnanda Ogolúgo\, í samstarfi við kokka Hannesarholts\, verður borin fram á fyrstu hæð hússins. \nMiðaverð 9.900 kr. – Nældu þér í miða hér \n// \nDJ Björk is bringing the African vibes in Hljóðberg at cultural hub Hannesarholt. Chef Alex Jallow\, founder of Ogolúgo\, will prepare excellent African cuisine in cooperation with chefs at Hannesarholt that will be served on the first of the house. \nTicket price: 9.900 ISK.  – Get your tickets here
URL:https://riff.is/event/dj-bjork-i-hannesarholti/
LOCATION:Einkamál: Hannesarholt\, Grundarstígur 10\, Reykjavík\, 5111904\, Iceland
ORGANIZER;CN="Reykjav%C3%ADk International Film Festival 2020":MAILTO:ticketing@riff.is
END:VEVENT
END:VCALENDAR