BEGIN:VCALENDAR
VERSION:2.0
PRODID:-//RIFF - ECPv6.15.20//NONSGML v1.0//EN
CALSCALE:GREGORIAN
METHOD:PUBLISH
X-WR-CALNAME:RIFF
X-ORIGINAL-URL:https://riff.is
X-WR-CALDESC:Events for RIFF
REFRESH-INTERVAL;VALUE=DURATION:PT1H
X-Robots-Tag:noindex
X-PUBLISHED-TTL:PT1H
BEGIN:VTIMEZONE
TZID:Atlantic/Reykjavik
BEGIN:STANDARD
TZOFFSETFROM:+0000
TZOFFSETTO:+0000
TZNAME:GMT
DTSTART:20190101T000000
END:STANDARD
END:VTIMEZONE
BEGIN:VEVENT
DTSTART;TZID=Atlantic/Reykjavik:20200929T190000
DTEND;TZID=Atlantic/Reykjavik:20200929T200000
DTSTAMP:20260421T120552
CREATED:20200916T233837Z
LAST-MODIFIED:20200923T173728Z
UID:4275-1601406000-1601409600@riff.is
SUMMARY:INTERNATIONAL SHORTS I
DESCRIPTION:Correspondence\nBréfaskipti / Correspondencia\nSpain\, Chile / 2020 / 19 min / Short Fiction\nDirectors: Dominga Sotomayor and Carla Simón\nWriters: Dominga Sotomayor and Carla Simón\nProducers: Carla Sospedra\, Maria Zamora\, Dominga Sotomayor \nÍ formi kvikmyndaðra bréfasamtala fjalla tveir ungir kvikmyndagerðarmenn um kvikmyndir\, fjölskyldur\, arfleið og móðurhlutverkið. Hugleiðingar þeirra eru persónulegar og djúpstæðar og birtast í mikilfenglegum myndum teknum dag frá degi – og bergmála skyndilega í pólitískri neyð heimalandsins. Carla Simón var fyrsta konan til að vinna Gullna hlébarðann fyrir leikstjórn á Locarno kvikmyndahátíðinni árið 2018. \nIn the form of a filmed epistolary conversation\, two young filmmakers discuss film\, present and past family\, heritage\, and maternity. The personal and profound reflections—which are embodied in the graceful images taken day-to-day—are suddenly echoed by the political emergency faced by her country. Carla Simón made history at the Locarno Film Festival in 2018 becoming the first woman to win the Golden Leopard Award for Best Direction. \nON HOLD // Poikien puhelin\nÍ bið\nFinland / 2020 / 21 min / Short Documentary\nDirectors: Laura Rantanen \nVissirðu að kynþroskaskeiðið varir að eilífu? On Hold er tilraunastuttmynd sem skoðar bæði félagslega og erfðafræðilega þætti karlmennskunnar. Myndin er byggð á nafnlausum símtölum sem bárust hjálparsíma fyrir drengi og unga menn undir 20 ára. \nDid you know puberty lasts forever? On Hold is an experimental documentary short film contemplating the themes of intergenerationality and socially constructed masculinity. The film is based on anonymous phone calls dialed to a helpline for boys and young men under 20 years of age. \nVolcano: What does a lake dream?\nEldfjall: Hvað dreymir lækinn?\nVulcão: O Que Sonha um Lago?\nFrance and Portugal / 2020 / 21 min / Short Documentary\nDirectors: Diana Vidrascu\nWriters: Diana Vidrascu\, Johan Härnsten\nProducers: Diana Vidrascu\, Jesse James\nNordic Premiere / Norðurlandafrumsýning \nFagurfræðileg og myndræn framsetning í bland við vísindalegar frásagnir og hljóðverk. Áhorfandi fer inn í heim náttúrumynda sem breytast í truflandi en áhugaverðan\, óraunverulegan og stjórnlausan heim. \nA film mixing aesthetic and photographic research with mythological and scientific narratives and soundwork. Lulled by the stories told by the protagonists\, we are caught up in these images of nature that transform into a disturbing but exciting\, unreal and uncontrollable world. \nHEAVEN REACHES DOWN TO EARTH\nHIMNARNIR TEYGJA SIG NIÐUR AÐ JÖRÐU\nSouth Africa / 10 min / Short Fiction / 2020\nDirector: Tebogo Malebogo\nProducer: Petrus van Staden\nWorld Premiere / Heimsfrumsýning \nStaða hinsegin fólks í Afríku\, hefðbundnar væntingar til karlmanna í afrískri menningu\, og einangrunin sem mörg okkar finna tvinnast saman í myndinni. Myndin veitir innsýn í reynsluheim þeirra Tau og Tumelo\, en þegar Tau uppgötvar kynhneigð sína og sendir það Tumelo í sína eigin sjálfsskoðunarvegferð. \nWe find Heaven Reaches Down to Earth at a crossroads of emerging stories: queerness in Africa\, the traditional expectations of men within those African cultures\, and the isolation that many of us find ourselves currently dealing with\, as seen through the experiences of two young men\, Tau and Tumelo. The film serves as a snapshot of a moment in which Tau’s realization about his sexual orientation acts as an accelerant that sets Tumelo on his own journey. \nDUMMY\nGERVI // Atkūrimas\nLithuania / 2020 / 13 min\nDirector: Laurynas Bareiša \nGlæpamaður notar andlitslausa brúðu til að endurleika grimmilegan glæp. En að óvörum er hann ekki sá sem er dæmdur\, þar sem svo virðist vera að einhver leiki tveimur skjöldum í rannsóknarhópunum. \nUsing a faceless doll\, a criminal reenacts a brutal crime. But surprisingly he is not the one being judged. There seems to be an odd one out in the investigative group. \nI AM AFRAID TO FORGET YOUR FACE\nÉG ER HRÆDDUR UM AÐ GLEYMA ANDLITINU ÞÍNU\nEgypt\, France\, Belgium\, Qatar / 15 min / 2020 / Sort Fiction / Drama\nDirectors: Sameh Alaa\nWriter: Sameh Alaa\nProducers: Muhammad Taymour\, Martin Jérôme\nNordic Premiere / Norðurlandafrumsýning \nEftir að hafa verið aðskilin í 82 daga ferðast Adam um erfiðan veg til að verða sameinaður ástinni sinni\, sama hvað það kostar. \nAfter being separated for 82 days\, Adam travels down a rough road to be reunited with the one he loves\, whatever it takes.
URL:https://riff.is/event/international-shorts-i-2/
LOCATION:Einkamál: Loft Hostel & Bar\, Bankastræti 7\, Reykjavík\, 101\, Iceland
ATTACH;FMTTYPE=image/jpeg:https://riff.is/wp-content/uploads/2020/09/On-Hold-Still-hi-res-1129879-IS1.jpg
ORGANIZER;CN="Reykjav%C3%ADk International Film Festival 2020":MAILTO:ticketing@riff.is
END:VEVENT
END:VCALENDAR