BEGIN:VCALENDAR
VERSION:2.0
PRODID:-//RIFF - ECPv6.15.20//NONSGML v1.0//EN
CALSCALE:GREGORIAN
METHOD:PUBLISH
X-WR-CALNAME:RIFF
X-ORIGINAL-URL:https://riff.is
X-WR-CALDESC:Events for RIFF
REFRESH-INTERVAL;VALUE=DURATION:PT1H
X-Robots-Tag:noindex
X-PUBLISHED-TTL:PT1H
BEGIN:VTIMEZONE
TZID:Atlantic/Reykjavik
BEGIN:STANDARD
TZOFFSETFROM:+0000
TZOFFSETTO:+0000
TZNAME:GMT
DTSTART:20200101T000000
END:STANDARD
END:VTIMEZONE
BEGIN:VEVENT
DTSTART;TZID=Atlantic/Reykjavik:20211003T150000
DTEND;TZID=Atlantic/Reykjavik:20211003T183000
DTSTAMP:20260421T122137
CREATED:20210916T130406Z
LAST-MODIFIED:20210930T161858Z
UID:22852-1633273200-1633285800@riff.is
SUMMARY:SAGA BORGARÆTTARINNAR // SONS OF THE SOIL - HOF AKUREYRI
DESCRIPTION:Saga Borgarættarinnar – 100 ára \nKvikmyndin Saga Borgarættarinnar\, sem gerð var eftir skáldsögu Gunnars Gunnarssonar árið 1919\, markar upphaf kvikmyndagerðar á Íslandi. Í tilefni 100 ára afmælis myndarinnar verður ný stafræn endurgerð hennar með frumsaminni tónlist Þórðar Magnússonar í flutningi Sinfóníuhljómsveitar Norðurlands frumsýnd samtímis í Bíó Paradís í Reykjavík\, Hofi á Akureyri og Herðubíói á Seyðisfirði 3. október. \nLeikstjóri kvikmyndar: Gunnar Sommerfeldt\nTónlist: Þórður Magnússon\nTónlistarflutningur: Sinfóníuhljómsveit Norðurlands \nKAUPA MIÐA HÉR\n// \nSons of the Soil – 100 Year Anniversary \nThe film Sons of the Soil\, made by Gunnar Gunnarsson’s novel in 1919\, marks the start of filmmaking in Iceland. To commemorate its centennial\, celebration screenings will be held in Bíó Paradis Reykjavík\, Hof in Akureyri\, and Herðubíó Seyðisfirði. The film has recently been digitally restored in high definition by the Icelandic Film Archive and is accompanied by a new original score by Þórður Magnússon\, played by SinfoniaNord. \nDirector: Gunnar Sommerfeldt\nScore: Þórður Magnússon\nMusic: SinfoniaNord \nBUY TICKETS HERE\n  \n//   Smelltu hér fyrir söguþráðið – Click here to read the plot
URL:https://riff.is/event/saga-borgaraettarinnar-sons-of-the-soil-hof_akureyri/
LOCATION:Einkamál: Hof Akureyri\, Strandgata 12\, Akureyri\, 600\, Iceland
CATEGORIES:Special Events
ATTACH;FMTTYPE=image/png:https://riff.is/wp-content/uploads/2021/09/borgar_FaceEvent.png
ORGANIZER;CN="Reykjav%C3%ADk International Film Festival 2020":MAILTO:ticketing@riff.is
END:VEVENT
END:VCALENDAR