BEGIN:VCALENDAR
VERSION:2.0
PRODID:-//RIFF - ECPv6.15.20//NONSGML v1.0//EN
CALSCALE:GREGORIAN
METHOD:PUBLISH
X-WR-CALNAME:RIFF
X-ORIGINAL-URL:https://riff.is/pl
X-WR-CALDESC:Wydarzenia dla RIFF
REFRESH-INTERVAL;VALUE=DURATION:PT1H
X-Robots-Tag:noindex
X-PUBLISHED-TTL:PT1H
BEGIN:VTIMEZONE
TZID:Atlantic/Reykjavik
BEGIN:STANDARD
TZOFFSETFROM:+0000
TZOFFSETTO:+0000
TZNAME:GMT
DTSTART:20190101T000000
END:STANDARD
END:VTIMEZONE
BEGIN:VEVENT
DTSTART;TZID=Atlantic/Reykjavik:20201001T190000
DTEND;TZID=Atlantic/Reykjavik:20201001T210000
DTSTAMP:20260421T121510
CREATED:20200916T234353Z
LAST-MODIFIED:20200923T172209Z
UID:4285-1601578800-1601586000@riff.is
SUMMARY:INTERNATIONAL SHORTS III
DESCRIPTION:OUR HEARTS BEAT LIKE WAR\nHJÖRTU OKKAR SLÁ EINS OG STRÍÐ / Zchuhit Bayam\nIsrael / 2020 / 15 min / Short Fiction\nDirector: Elinor Nechemya\nWriter: Elinor Nechemya\nProducers: Elinor Nechemya\, Omer Harel\nEuropean Premiere / Evrópufrumsýning \nMeð augun límd við ævintýrabók og eyrun við hryllilega frásögn eritrísks flóttamanns\, sofnar hinn níu ára gamli Sinai á skrifstofu móður sinnar og hugurinn fer að reika. \nWith his eyes in a fantasy book and his ears glued to the horrific testimony of an Eritrean refugee\, 9-year-old Sinai falls asleep at his mother’s workplace\, and his mind drifts away. \nLONELY RIVERS\nEINMANA FLJÓT\nFrance and Spain / 28 min / 2019 / Short Documentary\nDirector: Mauro Herce\nWriters: Mauro Herce\, Manuel Muñoz Rivas\nProducers: Jose Alayón\, Jasmina Sijercic\, Mauro Herce\nNordic Premiere / Norðurlandafrumsýning \nMenn á ýmsum aldri koma saman til að slaka á\, hafa gaman og syngja í karaoke. Klukkutímar og dagar líða án hlés og erfitt er að segja til um hversu langur tími hefur liðið; hvort það sé dagur eða nótt\, hver hefur sofnað og hver er nývaknaður. Aðeins nokkrar vísbendingar leyfa áhorfendum að komast nær því að vita eitthvað um þetta undarlega umhverfi. \nMen of many ages gather in the same room to relax\, have fun and sing karaoke songs. The hours and days pass by without pause and we can barely say how long it’s been\, whether it is day or night\, who just woke up or who is going to sleep. Only a few hints appearing from time to time in the footage will allow us to learn something about their mysterious job and circumstance. \nTHE SILENCE OF THE RIVER\nÞÖGN ÁRINNAR / EL SILENCIO DEL RIO\nPeru / 2020 / 13 min / Short Fiction\nDirector: Francesca Canepa\nWriter: Francesca Canepa\nProducer: Jimena Hospina\nNordic Premiere / Norðurlandafrumsýning \nJuan er 9 ára gamall strákur sem býr með pabba sínum á fljótandi húsi á Amazon ánni. Í gegnum ferðalag um frumskóginn mun hann uppgötva sannleikann um föður sinn. \nJuan\, a 9-year-old boy\, lives with his dad in a floating house on the Amazon river. Through a dreamy journey into the rainforest jungle\, he will discover the truth about his dad. \nSOMETHING TO REMEMBER\nEITTHVAÐ TIL AÐ MINNAST / Något att minnas\nSweden / 5 min / 2019 / Short Animation\nDirectors: Niki Lindroth von Bahr \nVögguvísa fyrir heimsendi. Tvær dúfur heimsækja dýragarð án dýra\, snigill fer til læknis til að láta mæla í sér blóðþrýstinginn\, og á tilraunastofu CERN hefur eitthvað farið hræðilega úrskeiðis. Sex augnablik frá okkar tíma\, eins og minningar þess heims sem við munum skilja eftir. \nA lullaby before the great disaster. Two pigeons visit a zoo without animals\, a snail measures his blood pressure at the doctors\, and in the CERN laboratory\, something has gone terribly wrong. Six moments from our time\, like memories of the world we leave behind. \nI LOVE YOU ALWAYS\nNDAGUKUNDA DÉJÀ / ÉG ELSKA ÞIG ALLTAF\nCanada and Rwanda / 21 min / 2020 / Short Documentary\nDirectors: Sébastien Desrosiers\, David Findlay\nProducers: Sébastien Desrosiers\, David Findlay\nWorld Premiere / Heimsfrumsýning \nEftir að hafa hitt rúandískan föður sinn í Montreal í fyrsta sinn 28 ára að aldri leggur blaðamaðurinn Sébastien Desrosiers af stað í ferðalag til forfeðralands síns í leit að svörum\, 25 árum eftir þjóðarmorðin í landinu. \nAfter meeting his Rwandan father in Montreal for the first time at 28 years of age\, Québécois journalist Sébastien Desrosiers sets off\, in this 25th year anniversary of the genocide\, on an existential quest to his ancestral land in search of answers. \nSALSA\nPortugal and Argentina / 13 min\nDirectors: Igor Dimitri \nÞað er eftirmiðdagur í Buenos Aires og tónlist hljómar á dóminískri hárgreiðslustofu. Þar koma saman ýmsir karakterar með mismunandi bakgrunn og tengjast í gegnum tónlistina á stofunni. Allt frá dönsurum og tónlistarflytjendum til viðskiptavina hárgreiðslustofunnar. \nThis film captures one Buenos Aires afternoon in a Dominican hairdresser salon\, in which characters with different backgrounds reunite around the musical feeling of the place\, from dancers to performers and actors\, clients\, and reggaetón singers.
URL:https://riff.is/pl/event/international-shorts-iii-2/
LOCATION:Prywatne: Loft Hostel & Bar\, Bankastræti 7\, Reykjavík\, 101\, Iceland
ATTACH;FMTTYPE=image/jpeg:https://riff.is/wp-content/uploads/2020/09/riff-2020-Our-Hearts-Beat-Like-War-Still-hi-res-1140739-IS3.jpg
ORGANIZER;CN="Reykjav%C3%ADk International Film Festival 2020":MAILTO:ticketing@riff.is
END:VEVENT
END:VCALENDAR